Workbook

Sheet BaseDatos
D1: Estado de Cuenta y Antigüedad de Saldos
D2: Grupo DISAL · Código FOR-FI-01 · Revisión 1.1 · Fecha 06-10-2026
A4: Corte al: | F4: Plazo estándar (días): | G4: 15
A6: Cliente | B6: Folio | C6: Fecha | D6: Fecha vencimiento | E6: Días crédito | F6: Importe | G6: Facturado | H6: Vencido | I6: Días vencido
H7: =IF(AND($F7<>"",$D7<>"",TODAY()>$D7),$F7,0) | I7: =IF(AND($D7<>"",TODAY()>$D7),TODAY()-$D7,0)
H8: =IF(AND($F8<>"",$D8<>"",TODAY()>$D8),$F8,0) | I8: =IF(AND($D8<>"",TODAY()>$D8),TODAY()-$D8,0)
H9: =IF(AND($F9<>"",$D9<>"",TODAY()>$D9),$F9,0) | I9: =IF(AND($D9<>"",TODAY()>$D9),TODAY()-$D9,0)
H10: =IF(AND($F10<>"",$D10<>"",TODAY()>$D10),$F10,0) | I10: =IF(AND($D10<>"",TODAY()>$D10),TODAY()-$D10,0)
H11: =IF(AND($F11<>"",$D11<>"",TODAY()>$D11),$F11,0) | I11: =IF(AND($D11<>"",TODAY()>$D11),TODAY()-$D11,0)
H12: =IF(AND($F12<>"",$D12<>"",TODAY()>$D12),$F12,0) | I12: =IF(AND($D12<>"",TODAY()>$D12),TODAY()-$D12,0)
H13: =IF(AND($F13<>"",$D13<>"",TODAY()>$D13),$F13,0) | I13: =IF(AND($D13<>"",TODAY()>$D13),TODAY()-$D13,0)
H14: =IF(AND($F14<>"",$D14<>"",TODAY()>$D14),$F14,0) | I14: =IF(AND($D14<>"",TODAY()>$D14),TODAY()-$D14,0)
H15: =IF(AND($F15<>"",$D15<>"",TODAY()>$D15),$F15,0) | I15: =IF(AND($D15<>"",TODAY()>$D15),TODAY()-$D15,0)
H16: =IF(AND($F16<>"",$D16<>"",TODAY()>$D16),$F16,0) | I16: =IF(AND($D16<>"",TODAY()>$D16),TODAY()-$D16,0)
H17: =IF(AND($F17<>"",$D17<>"",TODAY()>$D17),$F17,0) | I17: =IF(AND($D17<>"",TODAY()>$D17),TODAY()-$D17,0)
H18: =IF(AND($F18<>"",$D18<>"",TODAY()>$D18),$F18,0) | I18: =IF(AND($D18<>"",TODAY()>$D18),TODAY()-$D18,0)
... H66: =IF(AND($F66<>"",$D66<>"",TODAY()>$D66),$F66,0) | I66: =IF(AND($D66<>"",TODAY()>$D66),TODAY()-$D66,0)

Sheet Resumen
A1: RESUMEN DE CARTERA POR CLIENTE
A2: Corte al:
A4: Cliente | B4: Cartera | C4: Vencido | D4: % Vencido | E4: Días vencido | F4: Facturado | G4: Remisionado
B5: =IF($A5="","",SUMIF(BaseDatos!$A:$A,$A5,BaseDatos!$F:$F)) | C5: =IF($A5="","",SUMIF(BaseDatos!$A:$A,$A5,BaseDatos!$H:$H)) | D5: =IF(OR($A5="",$B5=0),"",$C5/$B5) | E5: =IF($A5="","",MAXIFS(BaseDatos!$I:$I,BaseDatos!$A:$A,$A5)) | F5: =IF($A5="","",SUMIFS(BaseDatos!$F:$F,BaseDatos!$A:$A,$A5,BaseDatos!$G:$G,"Sí")) | G5: =IF($A5="","",SUMIFS(BaseDatos!$F:$F,BaseDatos!$A:$A,$A5,BaseDatos!$G:$G,"No"))
B6: =IF($A6="","",SUMIF(BaseDatos!$A:$A,$A6,BaseDatos!$F:$F)) | C6: =IF($A6="","",SUMIF(BaseDatos!$A:$A,$A6,BaseDatos!$H:$H)) | D6: =IF(OR($A6="",$B6=0),"",$C6/$B6) | E6: =IF($A6="","",MAXIFS(BaseDatos!$I:$I,BaseDatos!$A:$A,$A6)) | F6: =IF($A6="","",SUMIFS(BaseDatos!$F:$F,BaseDatos!$A:$A,$A6,BaseDatos!$G:$G,"Sí")) | G6: =IF($A6="","",SUMIFS(BaseDatos!$F:$F,BaseDatos!$A:$A,$A6,BaseDatos!$G:$G,"No"))
B7: =IF($A7="","",SUMIF(BaseDatos!$A:$A,$A7,BaseDatos!$F:$F)) | C7: =IF($A7="","",SUMIF(BaseDatos!$A:$A,$A7,BaseDatos!$H:$H)) | D7: =IF(OR($A7="",$B7=0),"",$C7/$B7) | E7: =IF($A7="","",MAXIFS(BaseDatos!$I:$I,BaseDatos!$A:$A,$A7)) | F7: =IF($A7="","",SUMIFS(BaseDatos!$F:$F,BaseDatos!$A:$A,$A7,BaseDatos!$G:$G,"Sí")) | G7: =IF($A7="","",SUMIFS(BaseDatos!$F:$F,BaseDatos!$A:$A,$A7,BaseDatos!$G:$G,"No"))
B8: =IF($A8="","",SUMIF(BaseDatos!$A:$A,$A8,BaseDatos!$F:$F)) | C8: =IF($A8="","",SUMIF(BaseDatos!$A:$A,$A8,BaseDatos!$H:$H)) | D8: =IF(OR($A8="",$B8=0),"",$C8/$B8) | E8: =IF($A8="","",MAXIFS(BaseDatos!$I:$I,BaseDatos!$A:$A,$A8)) | F8: =IF($A8="","",SUMIFS(BaseDatos!$F:$F,BaseDatos!$A:$A,$A8,BaseDatos!$G:$G,"Sí")) | G8: =IF($A8="","",SUMIFS(BaseDatos!$F:$F,BaseDatos!$A:$A,$A8,BaseDatos!$G:$G,"No"))
B9: =IF($A9="","",SUMIF(BaseDatos!$A:$A,$A9,BaseDatos!$F:$F)) | C9: =IF($A9="","",SUMIF(BaseDatos!$A:$A,$A9,BaseDatos!$H:$H)) | D9: =IF(OR($A9="",$B9=0),"",$C9/$B9) | E9: =IF($A9="","",MAXIFS(BaseDatos!$I:$I,BaseDatos!$A:$A,$A9)) | F9: =IF($A9="","",SUMIFS(BaseDatos!$F:$F,BaseDatos!$A:$A,$A9,BaseDatos!$G:$G,"Sí")) | G9: =IF($A9="","",SUMIFS(BaseDatos!$F:$F,BaseDatos!$A:$A,$A9,BaseDatos!$G:$G,"No"))
B10: =IF($A10="","",SUMIF(BaseDatos!$A:$A,$A10,BaseDatos!$F:$F)) | C10: =IF($A10="","",SUMIF(BaseDatos!$A:$A,$A10,BaseDatos!$H:$H)) | D10: =IF(OR($A10="",$B10=0),"",$C10/$B10) | E10: =IF($A10="","",MAXIFS(BaseDatos!$I:$I,BaseDatos!$A:$A,$A10)) | F10: =IF($A10="","",SUMIFS(BaseDatos!$F:$F,BaseDatos!$A:$A,$A10,BaseDatos!$G:$G,"Sí")) | G10: =IF($A10="","",SUMIFS(BaseDatos!$F:$F,BaseDatos!$A:$A,$A10,BaseDatos!$G:$G,"No"))
B11: =IF($A11="","",SUMIF(BaseDatos!$A:$A,$A11,BaseDatos!$F:$F)) | C11: =IF($A11="","",SUMIF(BaseDatos!$A:$A,$A11,BaseDatos!$H:$H)) | D11: =IF(OR($A11="",$B11=0),"",$C11/$B11) | E11: =IF($A11="","",MAXIFS(BaseDatos!$I:$I,BaseDatos!$A:$A,$A11)) | F11: =IF($A11="","",SUMIFS(BaseDatos!$F:$F,BaseDatos!$A:$A,$A11,BaseDatos!$G:$G,"Sí")) | G11: =IF($A11="","",SUMIFS(BaseDatos!$F:$F,BaseDatos!$A:$A,$A11,BaseDatos!$G:$G,"No"))
B12: =IF($A12="","",SUMIF(BaseDatos!$A:$A,$A12,BaseDatos!$F:$F)) | C12: =IF($A12="","",SUMIF(BaseDatos!$A:$A,$A12,BaseDatos!$H:$H)) | D12: =IF(OR($A12="",$B12=0),"",$C12/$B12) | E12: =IF($A12="","",MAXIFS(BaseDatos!$I:$I,BaseDatos!$A:$A,$A12)) | F12: =IF($A12="","",SUMIFS(BaseDatos!$F:$F,BaseDatos!$A:$A,$A12,BaseDatos!$G:$G,"Sí")) | G12: =IF($A12="","",SUMIFS(BaseDatos!$F:$F,BaseDatos!$A:$A,$A12,BaseDatos!$G:$G,"No"))
B13: =IF($A13="","",SUMIF(BaseDatos!$A:$A,$A13,BaseDatos!$F:$F)) | C13: =IF($A13="","",SUMIF(BaseDatos!$A:$A,$A13,BaseDatos!$H:$H)) | D13: =IF(OR($A13="",$B13=0),"",$C13/$B13) | E13: =IF($A13="","",MAXIFS(BaseDatos!$I:$I,BaseDatos!$A:$A,$A13)) | F13: =IF($A13="","",SUMIFS(BaseDatos!$F:$F,BaseDatos!$A:$A,$A13,BaseDatos!$G:$G,"Sí")) | G13: =IF($A13="","",SUMIFS(BaseDatos!$F:$F,BaseDatos!$A:$A,$A13,BaseDatos!$G:$G,"No"))
B14: =IF($A14="","",SUMIF(BaseDatos!$A:$A,$A14,BaseDatos!$F:$F)) | C14: =IF($A14="","",SUMIF(BaseDatos!$A:$A,$A14,BaseDatos!$H:$H)) | D14: =IF(OR($A14="",$B14=0),"",$C14/$B14) | E14: =IF($A14="","",MAXIFS(BaseDatos!$I:$I,BaseDatos!$A:$A,$A14)) | F14: =IF($A14="","",SUMIFS(BaseDatos!$F:$F,BaseDatos!$A:$A,$A14,BaseDatos!$G:$G,"Sí")) | G14: =IF($A14="","",SUMIFS(BaseDatos!$F:$F,BaseDatos!$A:$A,$A14,BaseDatos!$G:$G,"No"))
B15: =IF($A15="","",SUMIF(BaseDatos!$A:$A,$A15,BaseDatos!$F:$F)) | C15: =IF($A15="","",SUMIF(BaseDatos!$A:$A,$A15,BaseDatos!$H:$H)) | D15: =IF(OR($A15="",$B15=0),"",$C15/$B15) | E15: =IF($A15="","",MAXIFS(BaseDatos!$I:$I,BaseDatos!$A:$A,$A15)) | F15: =IF($A15="","",SUMIFS(BaseDatos!$F:$F,BaseDatos!$A:$A,$A15,BaseDatos!$G:$G,"Sí")) | G15: =IF($A15="","",SUMIFS(BaseDatos!$F:$F,BaseDatos!$A:$A,$A15,BaseDatos!$G:$G,"No"))
B16: =IF($A16="","",SUMIF(BaseDatos!$A:$A,$A16,BaseDatos!$F:$F)) | C16: =IF($A16="","",SUMIF(BaseDatos!$A:$A,$A16,BaseDatos!$H:$H)) | D16: =IF(OR($A16="",$B16=0),"",$C16/$B16) | E16: =IF($A16="","",MAXIFS(BaseDatos!$I:$I,BaseDatos!$A:$A,$A16)) | F16: =IF($A16="","",SUMIFS(BaseDatos!$F:$F,BaseDatos!$A:$A,$A16,BaseDatos!$G:$G,"Sí")) | G16: =IF($A16="","",SUMIFS(BaseDatos!$F:$F,BaseDatos!$A:$A,$A16,BaseDatos!$G:$G,"No"))
... B44: =IF($A44="","",SUMIF(BaseDatos!$A:$A,$A44,BaseDatos!$F:$F)) | C44: =IF($A44="","",SUMIF(BaseDatos!$A:$A,$A44,BaseDatos!$H:$H)) | D44: =IF(OR($A44="",$B44=0),"",$C44/$B44) | E44: =IF($A44="","",MAXIFS(BaseDatos!$I:$I,BaseDatos!$A:$A,$A44)) | F44: =IF($A44="","",SUMIFS(BaseDatos!$F:$F,BaseDatos!$A:$A,$A44,BaseDatos!$G:$G,"Sí")) | G44: =IF($A44="","",SUMIFS(BaseDatos!$F:$F,BaseDatos!$A:$A,$A44,BaseDatos!$G:$G,"No"))
A45: TOTAL CARTERA CLIENTES DISAL | B45: =SUM(B5:B44) | C45: =SUM(C5:C44) | D45: =IF($B45=0,"",$C45/$B45) | F45: =SUM(F5:F44) | G45: =SUM(G5:G44)

Sheet EstadoCuenta
C1: GRUPO DISAL DE CHIHUAHUA S.A. DE C.V.
C2: C. Zubirán 103, Col. Santa Rosa, C.P. 31050
C3: Chihuahua, Chih.
C4: RFC: GDC1905155J8
A6: ESTADO DE CUENTA
A7: Fecha:
A8: Cliente:
A10: Folio | B10: Fecha | C10: Fecha vencimiento | D10: Importe | E10: Importe vencido
C31: TOTAL ADEUDO | D31: =SUM(D11:D30)
C32: VENCIDO | D32: =SUM(E11:E30)

Sheet Dashboard
A1: TABLERO DE CARTERA
A3: Cartera total | B3: =Resumen!B45
A4: Vencido | B4: =Resumen!C45
A5: % Vencido | B5: =IF(Resumen!B45=0,"",Resumen!C45/Resumen!B45)
A6: Facturado | B6: =Resumen!F45
A7: Remisionado | B7: =Resumen!G45
A8: % Facturado | B8: =IF(Resumen!B45=0,"",Resumen!F45/Resumen!B45)

Sheet Instrucciones
B1: INSTRUCCIONES
B3: Qué es este formato:
B4: Reconstruye limpio y sin datos la macro de cobranza que ya usa Finanzas (Cartera de Clientes). Separa lo facturado de lo remisionado, que es la diferencia que hoy no se ve en el sistema.
B6: Cómo se llena:
B7: 1. BaseDatos: pegue aquí el reporte de remisiones y facturas del sistema, un renglón por documento. Marque Facturado (Sí o No) en cada uno. El Vencido y los Días vencido se calculan solos contra la fecha de hoy.
B8: 2. Resumen: escriba el nombre de cada cliente en la columna Cliente. La cartera, lo vencido, el porcentaje vencido, lo facturado y lo remisionado se concentran solos desde BaseDatos.
B9: 3. EstadoCuenta: es el documento que se envía al cliente. Capture su nombre y sus documentos abiertos; el total y lo vencido se suman solos. Duplique la hoja por cliente.
B10: 4. Dashboard: lee los totales del Resumen. Muestra cuánto de la cartera está realmente facturado.
B12: Uso:
B13: El plazo estándar es 15 días. El Resumen es el insumo de la cobranza (PRO-FI-02) y del flujo (FOR-FI-06). El sistema no siempre totaliza bien; este formato es el control de respaldo, y su cruce facturado contra remisionado es el semáforo de cumplimiento fiscal.
